BEGIN:VCALENDAR
VERSION:2.0
PRODID:-//Fast Fridays Motorcycle Speedway Auburn CA - ECPv6.15.17//NONSGML v1.0//EN
CALSCALE:GREGORIAN
METHOD:PUBLISH
X-ORIGINAL-URL:https://www.fastfridays.com
X-WR-CALDESC:Events for Fast Fridays Motorcycle Speedway Auburn CA
REFRESH-INTERVAL;VALUE=DURATION:PT1H
X-Robots-Tag:noindex
X-PUBLISHED-TTL:PT1H
BEGIN:VTIMEZONE
TZID:America/Los_Angeles
BEGIN:DAYLIGHT
TZOFFSETFROM:-0800
TZOFFSETTO:-0700
TZNAME:PDT
DTSTART:20250309T100000
END:DAYLIGHT
BEGIN:STANDARD
TZOFFSETFROM:-0700
TZOFFSETTO:-0800
TZNAME:PST
DTSTART:20251102T090000
END:STANDARD
BEGIN:DAYLIGHT
TZOFFSETFROM:-0800
TZOFFSETTO:-0700
TZNAME:PDT
DTSTART:20260308T100000
END:DAYLIGHT
BEGIN:STANDARD
TZOFFSETFROM:-0700
TZOFFSETTO:-0800
TZNAME:PST
DTSTART:20261101T090000
END:STANDARD
BEGIN:DAYLIGHT
TZOFFSETFROM:-0800
TZOFFSETTO:-0700
TZNAME:PDT
DTSTART:20270314T100000
END:DAYLIGHT
BEGIN:STANDARD
TZOFFSETFROM:-0700
TZOFFSETTO:-0800
TZNAME:PST
DTSTART:20271107T090000
END:STANDARD
END:VTIMEZONE
BEGIN:VEVENT
DTSTART;TZID=America/Los_Angeles:20260731T200000
DTEND;TZID=America/Los_Angeles:20260731T223000
DTSTAMP:20260421T155220
CREATED:20260130T212051Z
LAST-MODIFIED:20260130T212221Z
UID:40329-1785528000-1785537000@www.fastfridays.com
SUMMARY:2026 Speedway & 25 Lap Main Event
DESCRIPTION:Season Pass holders get in at 6:00 pm for Early Seating\nKids 9 and under: Free\nGates open at 6:30 pm\nRacing blasts off at 8:00 pm\nAll patrons must follow the Fast Fridays Code of Conduct\nAll tickets are general admission and we are limited to how many tickets we can sell.\nBuying your tickets online ensures that you will get admission to the speedway.
URL:https://www.fastfridays.com/event/2026-speedway-25-lap-main-event/
LOCATION:Fast Fridays Motorcycle Speedway\, 209 Fairgate Road\, Auburn\, CA\, 95604\, United States
ATTACH;FMTTYPE=image/webp:https://www.fastfridays.com/wp-content/uploads/2024/04/June-28-2024-Speedway-25-Lap-Main-Event-AD5A3623.webp
ORGANIZER;CN="Fast Fridays Motorcycle Speedway":MAILTO:trish.fastfridays@gmail.com
END:VEVENT
BEGIN:VEVENT
DTSTART;TZID=America/Los_Angeles:20260807T200000
DTEND;TZID=America/Los_Angeles:20260807T223000
DTSTAMP:20260421T155220
CREATED:20260130T212953Z
LAST-MODIFIED:20260130T213335Z
UID:40339-1786132800-1786141800@www.fastfridays.com
SUMMARY:2026 Speedway & Extreme Sidecars Round #3
DESCRIPTION:Season Pass holders get in at 6:00 pm for Early Seating\nKids 9 and under: Free\nGates open at 6:30 pm\nRacing blasts off at 8:00 pm\nAll patrons must follow the Fast Fridays Code of Conduct\nAll tickets are general admission and we are limited to how many tickets we can sell.\nBuying your tickets online ensures that you will get admission to the speedway.
URL:https://www.fastfridays.com/event/2026-speedway-extreme-sidecars-round-3/
LOCATION:Fast Fridays Motorcycle Speedway\, 209 Fairgate Road\, Auburn\, CA\, 95604\, United States
ATTACH;FMTTYPE=image/webp:https://www.fastfridays.com/wp-content/uploads/2024/04/July-5-2024-Speedway-Extreme-Sidecars-Round-3-sponsored-by-IFC-and-Insurance-Marketing-AD5A3448.webp
ORGANIZER;CN="Fast Fridays Motorcycle Speedway":MAILTO:trish.fastfridays@gmail.com
END:VEVENT
BEGIN:VEVENT
DTSTART;TZID=America/Los_Angeles:20260814T200000
DTEND;TZID=America/Los_Angeles:20260814T223000
DTSTAMP:20260421T155220
CREATED:20260131T002746Z
LAST-MODIFIED:20260131T002920Z
UID:40345-1786737600-1786746600@www.fastfridays.com
SUMMARY:2026 Speedway Final Points Night & Team Challenge Final
DESCRIPTION:Season Pass holders get in at 6:00 pm for Early Seating\nKids 9 and under: Free\nGates open at 6:30 pm\nRacing blasts off at 8:00 pm\nAll patrons must follow the Fast Fridays Code of Conduct\nAll tickets are general admission and we are limited to how many tickets we can sell.\nBuying your tickets online ensures that you will get admission to the speedway.
URL:https://www.fastfridays.com/event/2026-speedway-final-points-night-team-challenge-final/
LOCATION:Fast Fridays Motorcycle Speedway\, 209 Fairgate Road\, Auburn\, CA\, 95604\, United States
ATTACH;FMTTYPE=image/webp:https://www.fastfridays.com/wp-content/uploads/2024/04/Aug-9-2024-Speedway-Final-Points-Night-Team-Law-Tigers-vs-IFC-Challenge-Final-AD5A5241.webp
ORGANIZER;CN="Fast Fridays Motorcycle Speedway":MAILTO:trish.fastfridays@gmail.com
END:VEVENT
BEGIN:VEVENT
DTSTART;TZID=America/Los_Angeles:20260821T200000
DTEND;TZID=America/Los_Angeles:20260821T223000
DTSTAMP:20260421T155220
CREATED:20260131T003400Z
LAST-MODIFIED:20260131T003543Z
UID:40350-1787342400-1787351400@www.fastfridays.com
SUMMARY:2026 Speedway Best Pairs Championship
DESCRIPTION:Season Pass holders get in at 6:00 pm for Early Seating\nKids 9 and under: Free\nGates open at 6:30 pm\nRacing blasts off at 8:00 pm\nAll patrons must follow the Fast Fridays Code of Conduct\nAll tickets are general admission and we are limited to how many tickets we can sell.\nBuying your tickets online ensures that you will get admission to the speedway.
URL:https://www.fastfridays.com/event/2026-speedway-best-pairs-championship/
LOCATION:Fast Fridays Motorcycle Speedway\, 209 Fairgate Road\, Auburn\, CA\, 95604\, United States
ATTACH;FMTTYPE=image/jpeg:https://www.fastfridays.com/wp-content/uploads/2024/09/speedway-cover.jpg
ORGANIZER;CN="Fast Fridays Motorcycle Speedway":MAILTO:trish.fastfridays@gmail.com
END:VEVENT
BEGIN:VEVENT
DTSTART;TZID=America/Los_Angeles:20260829T200000
DTEND;TZID=America/Los_Angeles:20260829T223000
DTSTAMP:20260421T155220
CREATED:20260131T214708Z
LAST-MODIFIED:20260131T214827Z
UID:40355-1788033600-1788042600@www.fastfridays.com
SUMMARY:2026 Speedway & Extreme Sidecars Round #4
DESCRIPTION:Season Pass holders get in at 6:00 pm for Early Seating\nKids 9 and under: Free\nGates open at 6:30 pm\nRacing blasts off at 8:00 pm\nAll patrons must follow the Fast Fridays Code of Conduct\nAll tickets are general admission and we are limited to how many tickets we can sell.\nBuying your tickets online ensures that you will get admission to the speedway.
URL:https://www.fastfridays.com/event/2026-speedway-extreme-sidecars-round-4/
LOCATION:Fast Fridays Motorcycle Speedway\, 209 Fairgate Road\, Auburn\, CA\, 95604\, United States
ATTACH;FMTTYPE=image/webp:https://www.fastfridays.com/wp-content/uploads/2024/04/Aug-2-2024-Speedway-Extreme-Sidecars-Series-Round-4-AD5A5076.webp
ORGANIZER;CN="Fast Fridays Motorcycle Speedway":MAILTO:trish.fastfridays@gmail.com
END:VEVENT
BEGIN:VEVENT
DTSTART;TZID=America/Los_Angeles:20260905T200000
DTEND;TZID=America/Los_Angeles:20260905T223000
DTSTAMP:20260421T155220
CREATED:20260131T215153Z
LAST-MODIFIED:20260131T215511Z
UID:40360-1788638400-1788647400@www.fastfridays.com
SUMMARY:2026 Fast Fridays Track & Pee Wee Championships
DESCRIPTION:Season Pass holders get in at 6:00 pm for Early Seating\nKids 9 and under: Free\nGates open at 6:30 pm\nRacing blasts off at 8:00 pm\nAll patrons must follow the Fast Fridays Code of Conduct\nAll tickets are general admission and we are limited to how many tickets we can sell.\nBuying your tickets online ensures that you will get admission to the speedway.
URL:https://www.fastfridays.com/event/2026-fast-fridays-track-pee-wee-championships/
LOCATION:Fast Fridays Motorcycle Speedway\, 209 Fairgate Road\, Auburn\, CA\, 95604\, United States
ATTACH;FMTTYPE=image/webp:https://www.fastfridays.com/wp-content/uploads/2024/04/Aug-17-2024-Track-Championship-Pee-Wee-Championship-–-SATURDAY-NIGHT-AD5A2927.webp
ORGANIZER;CN="Fast Fridays Motorcycle Speedway":MAILTO:trish.fastfridays@gmail.com
END:VEVENT
BEGIN:VEVENT
DTSTART;TZID=America/Los_Angeles:20260919T200000
DTEND;TZID=America/Los_Angeles:20260919T223000
DTSTAMP:20260421T155220
CREATED:20260131T232847Z
LAST-MODIFIED:20260131T233025Z
UID:40365-1789848000-1789857000@www.fastfridays.com
SUMMARY:2026 AMA National Speedway Championship Series Final
DESCRIPTION:Season Pass holders get in at 6:00 pm for Early Seating\nKids 9 and under: Free\nGates open at 6:30 pm\nRacing blasts off at 8:00 pm\nAll patrons must follow the Fast Fridays Code of Conduct\nAll tickets are general admission and we are limited to how many tickets we can sell.\nBuying your tickets online ensures that you will get admission to the speedway.
URL:https://www.fastfridays.com/event/2026-ama-national-speedway-championship-series-final/
LOCATION:Fast Fridays Motorcycle Speedway\, 209 Fairgate Road\, Auburn\, CA\, 95604\, United States
ATTACH;FMTTYPE=image/webp:https://www.fastfridays.com/wp-content/uploads/2024/04/Sept-21-2024-AMA-National-Speedway-Championship-Series-Final-Timmy-Dion.webp
ORGANIZER;CN="Fast Fridays Motorcycle Speedway":MAILTO:trish.fastfridays@gmail.com
END:VEVENT
BEGIN:VEVENT
DTSTART;TZID=America/Los_Angeles:20260926T200000
DTEND;TZID=America/Los_Angeles:20260926T223000
DTSTAMP:20260421T155220
CREATED:20260201T040201Z
LAST-MODIFIED:20260201T040351Z
UID:40370-1790452800-1790461800@www.fastfridays.com
SUMMARY:2026 AMA Extreme Sidecar National Championship & Youth 250cc and 150cc Nationals
DESCRIPTION:Season Pass holders get in at 6:00 pm for Early Seating\nKids 9 and under: Free\nGates open at 6:30 pm\nRacing blasts off at 8:00 pm\nAll patrons must follow the Fast Fridays Code of Conduct\nAll tickets are general admission and we are limited to how many tickets we can sell.\nBuying your tickets online ensures that you will get admission to the speedway.
URL:https://www.fastfridays.com/event/2026-ama-extreme-sidecar-national-championship-youth-250cc-and-150cc-nationals/
LOCATION:Fast Fridays Motorcycle Speedway\, 209 Fairgate Road\, Auburn\, CA\, 95604\, United States
ATTACH;FMTTYPE=image/webp:https://www.fastfridays.com/wp-content/uploads/2024/04/Aug-31-2024-AMA-Extreme-Sidecars-National-Championship-Youth-150cc-250cc-Nationals-–-SATURDAY-NIGHT-AD5A5543.webp
ORGANIZER;CN="Fast Fridays Motorcycle Speedway":MAILTO:trish.fastfridays@gmail.com
END:VEVENT
BEGIN:VEVENT
DTSTART;TZID=America/Los_Angeles:20261003T200000
DTEND;TZID=America/Los_Angeles:20261003T223000
DTSTAMP:20260421T155220
CREATED:20260201T040808Z
LAST-MODIFIED:20260201T040949Z
UID:40376-1791057600-1791066600@www.fastfridays.com
SUMMARY:2026 USA vs. the WORLD Season Finale
DESCRIPTION:Season Pass holders get in at 6:00 pm for Early Seating\nKids 9 and under: Free\nGates open at 6:30 pm\nRacing blasts off at 8:00 pm\nAll patrons must follow the Fast Fridays Code of Conduct\nAll tickets are general admission and we are limited to how many tickets we can sell.\nBuying your tickets online ensures that you will get admission to the speedway.
URL:https://www.fastfridays.com/event/2026-usa-vs-the-world-season-finale/
LOCATION:Fast Fridays Motorcycle Speedway\, 209 Fairgate Road\, Auburn\, CA\, 95604\, United States
ATTACH;FMTTYPE=image/webp:https://www.fastfridays.com/wp-content/uploads/2024/04/Oct-5-2024-USA-vs.-the-WORLD-Season-Finale-Dillon-Ruml.webp
ORGANIZER;CN="Fast Fridays Motorcycle Speedway":MAILTO:trish.fastfridays@gmail.com
END:VEVENT
END:VCALENDAR