BEGIN:VCALENDAR
VERSION:2.0
PRODID:-//Fast Fridays Motorcycle Speedway Auburn CA - ECPv6.15.17//NONSGML v1.0//EN
CALSCALE:GREGORIAN
METHOD:PUBLISH
X-WR-CALNAME:Fast Fridays Motorcycle Speedway Auburn CA
X-ORIGINAL-URL:https://www.fastfridays.com
X-WR-CALDESC:Events for Fast Fridays Motorcycle Speedway Auburn CA
REFRESH-INTERVAL;VALUE=DURATION:PT1H
X-Robots-Tag:noindex
X-PUBLISHED-TTL:PT1H
BEGIN:VTIMEZONE
TZID:America/Los_Angeles
BEGIN:DAYLIGHT
TZOFFSETFROM:-0800
TZOFFSETTO:-0700
TZNAME:PDT
DTSTART:20250309T100000
END:DAYLIGHT
BEGIN:STANDARD
TZOFFSETFROM:-0700
TZOFFSETTO:-0800
TZNAME:PST
DTSTART:20251102T090000
END:STANDARD
BEGIN:DAYLIGHT
TZOFFSETFROM:-0800
TZOFFSETTO:-0700
TZNAME:PDT
DTSTART:20260308T100000
END:DAYLIGHT
BEGIN:STANDARD
TZOFFSETFROM:-0700
TZOFFSETTO:-0800
TZNAME:PST
DTSTART:20261101T090000
END:STANDARD
BEGIN:DAYLIGHT
TZOFFSETFROM:-0800
TZOFFSETTO:-0700
TZNAME:PDT
DTSTART:20270314T100000
END:DAYLIGHT
BEGIN:STANDARD
TZOFFSETFROM:-0700
TZOFFSETTO:-0800
TZNAME:PST
DTSTART:20271107T090000
END:STANDARD
END:VTIMEZONE
BEGIN:VEVENT
DTSTART;TZID=America/Los_Angeles:20260626T200000
DTEND;TZID=America/Los_Angeles:20260626T223000
DTSTAMP:20260421T081451
CREATED:20260127T230517Z
LAST-MODIFIED:20260127T230742Z
UID:40297-1782504000-1782513000@www.fastfridays.com
SUMMARY:2026 Speedway & Team Challenge Round #3
DESCRIPTION:Season Pass holders get in at 6:00 pm for Early Seating\nKids 9 and under: Free\nGates open at 6:30 pm\nRacing blasts off at 8:00 pm\nAll patrons must follow the Fast Fridays Code of Conduct\nAll tickets are general admission and we are limited to how many tickets we can sell.\nBuying your tickets online ensures that you will get admission to the speedway.
URL:https://www.fastfridays.com/event/2026-speedway-team-challenge-round-3/
LOCATION:Fast Fridays Motorcycle Speedway\, 209 Fairgate Road\, Auburn\, CA\, 95604\, United States
ATTACH;FMTTYPE=image/webp:https://www.fastfridays.com/wp-content/uploads/2024/04/June-21-2024-Speedway-Team-Law-Tigers-vs-IFC-Challenge-Round-3-AD5A3634.webp
ORGANIZER;CN="Fast Fridays Motorcycle Speedway":MAILTO:trish.fastfridays@gmail.com
END:VEVENT
END:VCALENDAR