BEGIN:VCALENDAR
VERSION:2.0
PRODID:-//Fast Fridays Motorcycle Speedway Auburn CA - ECPv6.15.17//NONSGML v1.0//EN
CALSCALE:GREGORIAN
METHOD:PUBLISH
X-WR-CALNAME:Fast Fridays Motorcycle Speedway Auburn CA
X-ORIGINAL-URL:https://www.fastfridays.com
X-WR-CALDESC:Events for Fast Fridays Motorcycle Speedway Auburn CA
REFRESH-INTERVAL;VALUE=DURATION:PT1H
X-Robots-Tag:noindex
X-PUBLISHED-TTL:PT1H
BEGIN:VTIMEZONE
TZID:America/Los_Angeles
BEGIN:DAYLIGHT
TZOFFSETFROM:-0800
TZOFFSETTO:-0700
TZNAME:PDT
DTSTART:20240310T100000
END:DAYLIGHT
BEGIN:STANDARD
TZOFFSETFROM:-0700
TZOFFSETTO:-0800
TZNAME:PST
DTSTART:20241103T090000
END:STANDARD
BEGIN:DAYLIGHT
TZOFFSETFROM:-0800
TZOFFSETTO:-0700
TZNAME:PDT
DTSTART:20250309T100000
END:DAYLIGHT
BEGIN:STANDARD
TZOFFSETFROM:-0700
TZOFFSETTO:-0800
TZNAME:PST
DTSTART:20251102T090000
END:STANDARD
BEGIN:DAYLIGHT
TZOFFSETFROM:-0800
TZOFFSETTO:-0700
TZNAME:PDT
DTSTART:20260308T100000
END:DAYLIGHT
BEGIN:STANDARD
TZOFFSETFROM:-0700
TZOFFSETTO:-0800
TZNAME:PST
DTSTART:20261101T090000
END:STANDARD
END:VTIMEZONE
BEGIN:VEVENT
DTSTART;TZID=America/Los_Angeles:20250704T190000
DTEND;TZID=America/Los_Angeles:20250704T213000
DTSTAMP:20260421T183727
CREATED:20250128T120826Z
LAST-MODIFIED:20250623T231746Z
UID:28456-1751655600-1751664600@www.fastfridays.com
SUMMARY:2025 Speedway & Extreme Sidecars Round #3 - 1 HOUR EARLIER!!
DESCRIPTION:Season Pass holders get in at 5:00 pm for Early Seating – 1 HOUR EARLIER!!\nKids 9 and under: Free\nGates open at 5:30 pm – 1 HOUR EARLIER!!\nRacing blasts off at 7:00 pm due to the FIREWORKS show – 1 HOUR EARLIER!!\nAll patrons must follow the Fast Fridays Code of Conduct\nAll tickets are general admission and we are limited to how many tickets we can sell.\nBuying your tickets online ensures that you will get admission to the speedway.
URL:https://www.fastfridays.com/event/2025-speedway-extreme-sidecars-round-3/
LOCATION:Fast Fridays Motorcycle Speedway\, 209 Fairgate Road\, Auburn\, CA\, 95604\, United States
ATTACH;FMTTYPE=image/webp:https://www.fastfridays.com/wp-content/uploads/2024/04/July-5-2024-Speedway-Extreme-Sidecars-Round-3-sponsored-by-IFC-and-Insurance-Marketing-AD5A3448.webp
ORGANIZER;CN="Fast Fridays Motorcycle Speedway":MAILTO:trish.fastfridays@gmail.com
END:VEVENT
END:VCALENDAR